BEGIN:VCALENDAR
METHOD:PUBLISH
VERSION:2.0
PRODID:-//Eventilla iCal Syndication//NONSGML Liana//EN
BEGIN:VEVENT
UID:zAPAA@eventilla.com
DTSTAMP:20231026T100000Z
DTSTART:20231026T100000Z
DTEND:20231026T130000Z
SUMMARY:26.10 Kickoff Boost
DESCRIPTION:Kickoff Boost tehokkaampaan markkinointiin!\nSuunnitteletko yritystoiminnan aloittamista tai kaipaatko uutta alkua yrittäjyydellesi? Tiedätkö\, keitä asiakkaasi ovat ja mistä heidät löytää?\nTule mukaan Kickoff Boostiin\, jossa saat työkaluja asiakkaidesi tunnistamiseen ja viestisi paketoimiseen\, jotta tavoitat oikean kohderyhmän.\nKahden iltapäivän aikana sinulla on mahdollisuus työskennellä oman yrityksesi kehittämisen parissa. Ohjelmaan sisältyy asiantuntijoiden kanssa pidettäviä istuntoja yhdistettynä käytännön harjoituksiin ja työkaluja oman yrityksesi kehittämiseen sekä mahdollisuus konsultointiin. \nBoostin jälkeen sinulla on suunnitelma siitä\, miten voit kehittää yrityksesi strategiaa\, liiketoimintamallia ja miten voit käyttää tekoälyä apuna digitaalisessa markkinoinnissa.\nTorstai 26.10. klo. 13-16\, Campus Allegro\, PietarsaariHuone 464\, Pitsitehdas\, 4. krs. \nOhjelma:Klo. 13-14.30 Identifioi asiakkaasi\, Tobias Björkskog\, MBA \, projektipäällikkö yrkeshögskolan Novia\, Sandra Holm\, projektledare Centria yrkeshögskola\nKlo. 14.30-16 Tehosta liiketoimintamallisi\, Tobias Björkskog\, MBA \, projektipäällikkö yrkeshögskolan\, Sandra Holm\, projektipäällikkö Centria ammattikorkeakoulu\nTistai 31.10 klo. 13-16\, Campus Allegro\, PietarsaariHuone 464\, Pitsitehdas\, 4. krs. \nOhjelma:\nKlo 13-15 Digitaalinen markkinointi ja AI\, Jonathan Björkskog\, Genero Oy Ab\nKlo. 15-16 Paketoi viestisi Storytelling-menetelmän kautta\, Pernilla Howard\, Projektipäällikkö Centria ammattikorkeakoulu\nTiistai 7.11 klo. 17-19 Concordia\, Koulukatu 25-27 C\, Pietarsaari\nOhjelma: Seuranta ja konsultaatio\, Kari Myllymäki\, yritysneuvoja Concordia\nKickoff boost on maksuton ja tarjoilu sisältyy hintaan. Ilmoittaudu mukaan 19.10.2023 mennessä. Ilmoittautuminen tarkoittaa osallistumista boostin kolmeen tilaisuuteen. Tervetuloa!\nBoostin järjestää Concordia yhteistyössä Novian ja Centria kanssa ESR-rahoitteisen Myrsky-hankkeen puitteissa.\nHanke rahoitetaan REACT-EU-välineen määrärahoista osana Euroopan unionin Covid-19-pandemian johdosta toteuttamia toimia.\n \n
LOCATION:Campus Allegro Huone 464, 4 krs. (26.10+31.10) Concordia (7.11)\,
 Campus, Kauppiaankatu 10 & Concordia, Koulukatu 25-27 C\, 68600\,
 Pietarsaari\, Suomi
URL:http://events.jakobstadsregionen.fi/event/zAPAA
END:VEVENT
END:VCALENDAR
