BEGIN:VCALENDAR
METHOD:PUBLISH
VERSION:2.0
PRODID:-//Eventilla iCal Syndication//NONSGML Liana//EN
BEGIN:VEVENT
UID:opZd7@eventilla.com
DTSTAMP:20221207T150000Z
DTSTART:20221207T150000Z
DTEND:20221207T180000Z
SUMMARY:Social Wednesday - Youth Edition 7.12
DESCRIPTION:Tervetuloa Social Wednesday-verkostoitumistapahtumaamme!\nTapahtuma on tarkoitettu yrityksille\, yhdistyksille\, työnhakijoille ja uusille seutulaisille.Social Wednesday Youth Edition on suunnattu erityisesti seudulle muuttaneille nuorille ja nuorille aikuisille.\nPaikka: PietarsaariPäivämäärä: 7.12.2022 klo. 17-20 \nHaluamme nyt kutsua juuri teidän yrityksenne ja/tai yhdistyksenne Social Wednesday Youth Editioniin 7.12.2022. Tulkaa esittelemään yritystänne\, houkutelkaa osallistujia vapaa-ajan aktiviteetteihin\, rakentakaa positiivista työnantajamielikuvaa ja tapaamaan uusia potentiaalisia työntekijöitä!\nMerkitkää päivämäärä kalenteriinne. Yrityksiä ja yhdistyksiä pyydetään ilmoittautumaan mukaan tapahtumaan viimeistään su 27.11. Tapahtuman osallistujat eivät tarvitse ilmoittautua etukäteen. Lisätietoja tulee lähempänä tapahtumaa.\nOnko teillä kysyttävää tai haluatteko tietää lisää? Ottakaa rohkeasti yhteyttä!\nJärjestäjät: Eva Gädda ja Heidi Matinlassi (Concordia)\, Johanna Järvikivi (Kotouttamisportti)\, Melina Saari (YA!)\, Mona Groop-Sjöholm (Centria)\, Azra Arnautovic (Novia).\n
LOCATION:Pietarsaari\, 68600\, Pietarsaari\, Suomi
URL:http://events.jakobstadsregionen.fi/event/opZd7
END:VEVENT
END:VCALENDAR
