BEGIN:VCALENDAR
METHOD:PUBLISH
VERSION:2.0
PRODID:-//Eventilla iCal Syndication//NONSGML Liana//EN
BEGIN:VEVENT
UID:ZPvNW@eventilla.com
DTSTAMP:20231122T110000Z
DTSTART:20231122T110000Z
DTEND:20231122T131500Z
SUMMARY:22.11 Luovuuden voima!
DESCRIPTION:Luovuuden voima! - Luovien alojen merkitys \nAika: Keskiviikkona 22.11.2023 klo 13-15:15Paikka: Campus Allegro\, RotundaKohderyhmä: Kuka tahansa\, joka on kiinnostunut luovien alojen nykytilasta ja tulevaisuudesta\, kaikille\, joilla on ajatuksia siitä\, miten kulttuurimuodot voisivat hyödyntää liiketoiminta- ja innovaatioprosessejaKahvitarjoilu\nMikä on luovien alojen merkitys? Miten taide- ja kulttuurialalla menee? Mitä seudulla tapahtuu luovan ammattitaidon kannalta? Miten voimme luoda vahvempaa yhteistyötä taiteen\, kulttuurin ja elinkeinoelämän välille? Näitä asioita käsittelemme seminaarissa. Tervetuloa mukaan!\nOhjelma:\n·    Tervetuloa ja taide-tervehdys Ruski:ilta. Juontaja: Antti Koivukangas \n·     Mikä on luovien alojen tilanne Pietarsaaren seudulla? Fredrik Sandelin\, Aluekehittäjä\, Pietarsaaren seudun Kehittämisyhtiö Concordia\n·     Keynote: Luovuus\, kulttuuri ja business - Miten luomme lisäarvoa kaikille? Annika Lyytikäinen\, Yhteiskuntasuhdepäällikkö KULTA ry\n·    Kahvitauko ja seurustelu\n·    If I can make it here – I can make it anywhere!-Luovan musiikkituotannon ammattilaiset keskustelemassa. Janne Hyöty ja Victor Sågfors.\n·    Luovia projekteja esittäytyy -Bothnia Business Heritage - Interreg Aurora. Linda Lindroos\, Centria ja Daniel Ainasoja\, Novia \n     Luovuus elinkeinoelämässä – Case-Rusk Business Group\, Martin Granholm  -Shaping the Green Transition (SHAPE)\, Mirka\nTapahtuma on kaksikielinen ja maksuton\, sisältäen kahvit. Ilmoittautuminen viimeistään maanantaina 20.11. Lämpimästi tervetuloa! \n
LOCATION:Campus Allegro, Rotundan-tila\, Kauppiaankatu 10\, 68600\,
 Pietarsaari\, Suomi
URL:http://events.jakobstadsregionen.fi/event/ZPvNW
END:VEVENT
END:VCALENDAR
