BEGIN:VCALENDAR
METHOD:PUBLISH
VERSION:2.0
PRODID:-//Eventilla iCal Syndication//NONSGML Liana//EN
BEGIN:VEVENT
UID:Q2ZaM@eventilla.com
DTSTAMP:20240911T084500Z
DTSTART:20240911T084500Z
DTEND:20240911T123000Z
SUMMARY:11.9 Sustainable Business Day 2024
DESCRIPTION:Sustainable Business Day 2024\nAika: Keskiviikkona 11.9. klo. 11.45-15.30Paikka: Campus Allegro\, Kauppiaankatu 10\, Pietarsaari\nMiten navigoimme vastuullisuuskeskustelussa ja kiertotalouden mukaisessa ajattelutavassa - riitasoinnussa\, jossa tiedämme mitä meidän on tehtävä ja mitä me todellisuudessa teemme?\nTästä keskustellaan Pohjoismaiden suurimmassa vastuullisuustapahtumassa A Sustainable Tomorrow. Yrkeshögskolan Novia toimii ”A Sustainable Tomorrow” -verkoston pääyhteistyökumppanina ja isännöi hubeja Suomessa. Pietarsaaressa verkostomme tekee tänä vuonna yhteistyötä konferenssin ja fyysisen luennon järjestämiseksi. Tapahtuman kieli on ruotsi. Ilmoittamalla yhteiseen striimaukseen\, tämä on ainoa mahdollisuus osallistua tapahtumaan! (ei ole mahdollista osallistua etänä)\nIltapäivän aikana Pietarsaaren seudun yrityksillä on myös ainutlaatuinen mahdollisuus oppia lisää tulevasta digitaalisesta tuotepassista. Nils Löhndorf\, FinHub 360 Advisors GmbH\, Switzerland\, luennoi englanniksi (striimaus) teemalla ”The European Digital Product Passport (EPP) – Enhancing Competitiveness for Finnish SMEs.\nKlo. 09.30-14.30 Campus Allegrossa on edustettuna seudulla tapahtuvaa vastuullisuus- ja kiertotaloustoimintaa. Eritysteemana on sosiaalinen vastuullisuus.\nOhjelma 11.9.2024:\n11:45 A Sustainable Tomorrow\, striimaus (SV\, RUO)\nSeuraamme meneillään olevaa striimattua seminaaria seuraavilla Keynote-puheenvuoroilla:\n11:51 Maria Wolrath Söderberg\, Omatunto on kuollut - eläköön omatunto!\n12:11 Johanna Lundgren Gestlöf (kestävän kehityksen johtaja SPP) ja Fredric Nyström (kestävän kehityksen johtaja AP3)\, Dissonanssi ja raha\n12:30 Lyhyt tauko\n12:46 Fredrik Reinfeldt\, pääpuhuja\, Kansainvälinen katsaus\n13:29 Kata Nylén\, Riitasoinnusta mahdollisuuksiin.\n13:35 Maria Wolrath Söderberg\, Päivän yhteenvet\n13:50 Kahvitauko Campus Allegrossa & tutustuminen seudulla tapahtuvaan vastuullisuustoimintaan \n14:30 Keynote striimaus\, Nils Löhndorf\, The European Digital Product Passport (EPP)\nThe European Digital Product Passport (EPP) – Enhancing competitiveness for Finnish SMEs\, Nils Löhndorf\, Partner at FinHub 360 Advisors GmbH\, Switzerland (EN)\nThe European Digital Product Passport (EPP) aims to gather detailed information about products and their supply chains\, tracking design\, materials\, production\, use\, and disposal. Scheduled for implementation in 2026\, the EPP will focus on apparel\, batteries\, and consumer electronics\, with exclusions for food\, feed\, and pharmaceuticals under the European Green Deal. It provides standardized data on sustainability attributes\, including energy efficiency\, recyclability\, and fair labor practices. Finnish SMEs can leverage the EPP to communicate their commitment to sustainability\, attracting eco-conscious consumers and ESG-focused investors. This transparency drives demand for eco-friendly products and enhances competitiveness by showcasing adherence to ESG principles.\nExplore successful use cases from Europe\, Nordics and learn how to tailor the EPP to local Finnish requirements.\nPääjärjestäjänä toimii Viexpo ja Pohjanmaan kauppakamari.\n15:30 After Work Concordian kanssa @Station 23\nConcordia kutsuu sinut After Work -tilaisuuteen klo. 15:30-17:00\, jossa on mahdollisuus keskustella päivän teemoista ja verkostoitua. Erillinen ilmoitus tästä. Tervetuloa!\nOsallistu mielellään vastuullisuuspäivän koko ohjelmaan\, tai valitse ne osiot jotka kiinnostavat Sinua eniten! Ilmoittaudu viimeistään 4.9. Lämpimästi tervetuloa!\n
LOCATION:Campus Allegro\, Kauppiaankatu 10\, 68600\, Pietarsaari\, Suomi
URL:http://events.jakobstadsregionen.fi/event/Q2ZaM
END:VEVENT
END:VCALENDAR
