BEGIN:VCALENDAR
METHOD:PUBLISH
VERSION:2.0
PRODID:-//Eventilla iCal Syndication//NONSGML Liana//EN
BEGIN:VEVENT
UID:JBD9B@eventilla.com
DTSTAMP:20221031T150000Z
DTSTART:20221031T150000Z
DTEND:20221031T173000Z
SUMMARY:Webinaari 31.10: Yrityskaupan tarkastuslista (Due Diligence)
DESCRIPTION:Tervetuloa webinaariin!\n \nOletko ostamassa tai myymässä yritystä? Mitä sinun tulisi ostajana tietää yrityksestä? Ja kuinka voit myyjänä osoittaa missä kunnossa yrityksesi on?\n \nPohjalaiset kehittämisyhtiöt ovat yhdessä laatineet tarkistuslistan ostajalle ja myyjälle yrityskauppatilanteisiin. Webinaarissamme 31.10 saat lisätietoa\, mitä sinun ostajana tulisi selvittää. Tarkistuslista antaa myös myyjälle vinkin tiedoista\, jotka ovat aina saatavilla hyvin hoidetussa yrityksessä.\nWebinaari pidetään ruotsiksi 31.10\, klo.17-18\nWebinaari pidetään suomeksi 31.10\, klo. 18.30-19.30\nLinkki webinaariin lähetetään ilmoittautuneille osallistujille tapahtumapäivänä.\nKysymyksiä? Ota yhteyttä!\nKari Myllymäki\, Yritysneuvoja\, Pietarsaaren seudun Kehittämisyhtiö Concordia\nPuh. 010 239 7555\, Sposti: kari.myllymaki@concordia.jakobstad.fi\nTämän webinaari toteutetaan Sustaining Businesses in Ostrobothnia-hankkeen puitteissa. Hanke on Pietarsaaren seudun Kehittämisyhtiö Concordian\, Vaasan seudun Kehitys OY VASEKin\, Dynamo Närpiön ja Kristiinankaupungin Elinkeinokeskuksen yhteishanke.\n \n\n
LOCATION:Teams\, Suomi
URL:http://events.jakobstadsregionen.fi/event/JBD9B
END:VEVENT
END:VCALENDAR
